BEGIN:VCALENDAR
VERSION:2.0
PRODID:-//Freiwillige Feuerwehr Ummeln - ECPv6.15.17.1//NONSGML v1.0//EN
CALSCALE:GREGORIAN
METHOD:PUBLISH
X-WR-CALNAME:Freiwillige Feuerwehr Ummeln
X-ORIGINAL-URL:https://www.ff-ummeln.de
X-WR-CALDESC:Veranstaltungen für Freiwillige Feuerwehr Ummeln
REFRESH-INTERVAL;VALUE=DURATION:PT1H
X-Robots-Tag:noindex
X-PUBLISHED-TTL:PT1H
BEGIN:VTIMEZONE
TZID:Europe/Berlin
BEGIN:DAYLIGHT
TZOFFSETFROM:+0100
TZOFFSETTO:+0200
TZNAME:CEST
DTSTART:20230326T010000
END:DAYLIGHT
BEGIN:STANDARD
TZOFFSETFROM:+0200
TZOFFSETTO:+0100
TZNAME:CET
DTSTART:20231029T010000
END:STANDARD
BEGIN:DAYLIGHT
TZOFFSETFROM:+0100
TZOFFSETTO:+0200
TZNAME:CEST
DTSTART:20240331T010000
END:DAYLIGHT
BEGIN:STANDARD
TZOFFSETFROM:+0200
TZOFFSETTO:+0100
TZNAME:CET
DTSTART:20241027T010000
END:STANDARD
BEGIN:DAYLIGHT
TZOFFSETFROM:+0100
TZOFFSETTO:+0200
TZNAME:CEST
DTSTART:20250330T010000
END:DAYLIGHT
BEGIN:STANDARD
TZOFFSETFROM:+0200
TZOFFSETTO:+0100
TZNAME:CET
DTSTART:20251026T010000
END:STANDARD
END:VTIMEZONE
BEGIN:VEVENT
DTSTART;TZID=Europe/Berlin:20240330T100000
DTEND;TZID=Europe/Berlin:20240330T140000
DTSTAMP:20260425T134616
CREATED:20231128T221819Z
LAST-MODIFIED:20240320T122503Z
UID:1146-1711792800-1711807200@www.ff-ummeln.de
SUMMARY:Strauchannahme Osterfeuer
DESCRIPTION:Die Strauchannahme findet in der Zeit von 10:00 bis 14:00 Uhr statt! \n  \nAuch dieses Jahr wird die Freiwillige Feuerwehr Ummeln wieder zur Strauchannahme vor Ort sein und beim Entladen unterstützen. \nIn der Zeit von 10:00 bis 14:00 Uhr ist die Anlieferung von Strauchschnitt\, Baumschnitt und anderem Naturholz möglich. \nBehandeltes\, lackiertes oder gepresstes Holz darf nicht angenommen werden. \nDie Zufahrt erfolgt über die Ostermarsch\, Abfahrt Richtung Voßbergstr. \nÜber eine kleine Spende für die tatkräftige Unterstützung würden sich die Kameraden sehr freuen.
URL:https://www.ff-ummeln.de/event/strauchannahme-osterfeuer/
CATEGORIES:Information
END:VEVENT
BEGIN:VEVENT
DTSTART;TZID=Europe/Berlin:20240330T190000
DTEND;TZID=Europe/Berlin:20240330T230000
DTSTAMP:20260425T134616
CREATED:20231128T222323Z
LAST-MODIFIED:20240320T122609Z
UID:1148-1711825200-1711839600@www.ff-ummeln.de
SUMMARY:Osterfeuer 2024
DESCRIPTION:Weitere Informationen zum Termin unter: \nOsterfeuer 2024 – Strauchannahme\, Entzündung\, Informationen
URL:https://www.ff-ummeln.de/event/osterfeuer-2024/
END:VEVENT
END:VCALENDAR