BEGIN:VCALENDAR
VERSION:2.0
PRODID:-//Freiwillige Feuerwehr Ummeln - ECPv6.15.17.1//NONSGML v1.0//EN
CALSCALE:GREGORIAN
METHOD:PUBLISH
X-ORIGINAL-URL:https://www.ff-ummeln.de
X-WR-CALDESC:Veranstaltungen für Freiwillige Feuerwehr Ummeln
REFRESH-INTERVAL;VALUE=DURATION:PT1H
X-Robots-Tag:noindex
X-PUBLISHED-TTL:PT1H
BEGIN:VTIMEZONE
TZID:Europe/Berlin
BEGIN:DAYLIGHT
TZOFFSETFROM:+0100
TZOFFSETTO:+0200
TZNAME:CEST
DTSTART:20230326T010000
END:DAYLIGHT
BEGIN:STANDARD
TZOFFSETFROM:+0200
TZOFFSETTO:+0100
TZNAME:CET
DTSTART:20231029T010000
END:STANDARD
BEGIN:DAYLIGHT
TZOFFSETFROM:+0100
TZOFFSETTO:+0200
TZNAME:CEST
DTSTART:20240331T010000
END:DAYLIGHT
BEGIN:STANDARD
TZOFFSETFROM:+0200
TZOFFSETTO:+0100
TZNAME:CET
DTSTART:20241027T010000
END:STANDARD
BEGIN:DAYLIGHT
TZOFFSETFROM:+0100
TZOFFSETTO:+0200
TZNAME:CEST
DTSTART:20250330T010000
END:DAYLIGHT
BEGIN:STANDARD
TZOFFSETFROM:+0200
TZOFFSETTO:+0100
TZNAME:CET
DTSTART:20251026T010000
END:STANDARD
END:VTIMEZONE
BEGIN:VEVENT
DTSTART;TZID=Europe/Berlin:20240928T190000
DTEND;TZID=Europe/Berlin:20240928T235900
DTSTAMP:20260423T001240
CREATED:20231222T151505Z
LAST-MODIFIED:20240904T080351Z
UID:1200-1727550000-1727567940@www.ff-ummeln.de
SUMMARY:Ummelner Oktoberfest 2024
DESCRIPTION:Das Dirndl ist hergerichtet\, die Lederhose entstaubt… \nJa isch denn scho wieder Oktoberfest? \nDie Frage kann mit einem ganz klaren JA beantwortet werden\, denn es geht wieder los und zwar in die goldene Jahreszeit in der erneut das Ummelner Oktoberfest gefeiert wird. \nUnter dem Motto „unsere Wiesn“ wird es auch in diesem Jahr am 28.09.2024 zünftig einher gehen. \nDie Veranstaltung beginnt um 19:00 Uhr. \nFür das leibliche Wohl ist ausreichend gesorgt. \nDer Vorverkauf der begehrten Einlasstickets kann in wenigen Tagen beginnen. Wir freuen uns auf euch! \n…Weitere Details folgen…
URL:https://www.ff-ummeln.de/event/ummelner-oktoberfest-2024/
LOCATION:Dorfgemeinschaftshaus Ummeln\, Am Sportplatz\, Algermissen\, 31191\, Deutschland
CATEGORIES:Allgemeine Veranstaltung
END:VEVENT
END:VCALENDAR