BEGIN:VCALENDAR
VERSION:2.0
PRODID:-//Freiwillige Feuerwehr Ummeln - ECPv6.15.17.1//NONSGML v1.0//EN
CALSCALE:GREGORIAN
METHOD:PUBLISH
X-WR-CALNAME:Freiwillige Feuerwehr Ummeln
X-ORIGINAL-URL:https://www.ff-ummeln.de
X-WR-CALDESC:Veranstaltungen für Freiwillige Feuerwehr Ummeln
REFRESH-INTERVAL;VALUE=DURATION:PT1H
X-Robots-Tag:noindex
X-PUBLISHED-TTL:PT1H
BEGIN:VTIMEZONE
TZID:Europe/Berlin
BEGIN:DAYLIGHT
TZOFFSETFROM:+0100
TZOFFSETTO:+0200
TZNAME:CEST
DTSTART:20230326T010000
END:DAYLIGHT
BEGIN:STANDARD
TZOFFSETFROM:+0200
TZOFFSETTO:+0100
TZNAME:CET
DTSTART:20231029T010000
END:STANDARD
BEGIN:DAYLIGHT
TZOFFSETFROM:+0100
TZOFFSETTO:+0200
TZNAME:CEST
DTSTART:20240331T010000
END:DAYLIGHT
BEGIN:STANDARD
TZOFFSETFROM:+0200
TZOFFSETTO:+0100
TZNAME:CET
DTSTART:20241027T010000
END:STANDARD
BEGIN:DAYLIGHT
TZOFFSETFROM:+0100
TZOFFSETTO:+0200
TZNAME:CEST
DTSTART:20250330T010000
END:DAYLIGHT
BEGIN:STANDARD
TZOFFSETFROM:+0200
TZOFFSETTO:+0100
TZNAME:CET
DTSTART:20251026T010000
END:STANDARD
END:VTIMEZONE
BEGIN:VEVENT
DTSTART;TZID=Europe/Berlin:20240413T180000
DTEND;TZID=Europe/Berlin:20240413T180000
DTSTAMP:20260423T072517
CREATED:20231222T151042Z
LAST-MODIFIED:20240320T124423Z
UID:1198-1713031200-1713031200@www.ff-ummeln.de
SUMMARY:Mitgliederversammlung des Fördervereins der Ortsfeuerwehr Ummeln e. V.
DESCRIPTION:Versammlung der Mitglieder des Fördervereins zur Entgegennahme des Jahresberichts. \nDas Jahr 2023 hat den Hilfskräften wieder viel abverlangt. Auch für unsere Feuerwehrmitglieder galt und gilt \n„Man muss sich gegenseitig helfen\, das ist ein Naturgesetz.“ (Jean de La Fontaine) \n  \nSeien wir zuversichtlich und sorgen dafür\, dass unsere Feuerwehr diesem Naturgesetz folgen kann. \nWir als Förderverein werden weiterhin alles dafür tun\, damit unsere Feuerwehr erfolgreich sein kann. \nÜber unsere Arbeit werden wir bei der Mitgliederversammlung informieren.
URL:https://www.ff-ummeln.de/event/mitgliederversammlung-des-foerdervereins-der-ortsfeuerwehr-ummeln-e-v/
LOCATION:Dorfgemeinschaftshaus Ummeln\, Am Sportplatz\, Algermissen\, 31191\, Deutschland
CATEGORIES:Versammlung
END:VEVENT
END:VCALENDAR