BEGIN:VCALENDAR
VERSION:2.0
PRODID:-//Freiwillige Feuerwehr Ummeln - ECPv6.15.17.1//NONSGML v1.0//EN
CALSCALE:GREGORIAN
METHOD:PUBLISH
X-ORIGINAL-URL:https://www.ff-ummeln.de
X-WR-CALDESC:Veranstaltungen für Freiwillige Feuerwehr Ummeln
REFRESH-INTERVAL;VALUE=DURATION:PT1H
X-Robots-Tag:noindex
X-PUBLISHED-TTL:PT1H
BEGIN:VTIMEZONE
TZID:Europe/Berlin
BEGIN:DAYLIGHT
TZOFFSETFROM:+0100
TZOFFSETTO:+0200
TZNAME:CEST
DTSTART:20220327T010000
END:DAYLIGHT
BEGIN:STANDARD
TZOFFSETFROM:+0200
TZOFFSETTO:+0100
TZNAME:CET
DTSTART:20221030T010000
END:STANDARD
BEGIN:DAYLIGHT
TZOFFSETFROM:+0100
TZOFFSETTO:+0200
TZNAME:CEST
DTSTART:20230326T010000
END:DAYLIGHT
BEGIN:STANDARD
TZOFFSETFROM:+0200
TZOFFSETTO:+0100
TZNAME:CET
DTSTART:20231029T010000
END:STANDARD
BEGIN:DAYLIGHT
TZOFFSETFROM:+0100
TZOFFSETTO:+0200
TZNAME:CEST
DTSTART:20240331T010000
END:DAYLIGHT
BEGIN:STANDARD
TZOFFSETFROM:+0200
TZOFFSETTO:+0100
TZNAME:CET
DTSTART:20241027T010000
END:STANDARD
END:VTIMEZONE
BEGIN:VEVENT
DTSTART;TZID=Europe/Berlin:20230415T180000
DTEND;TZID=Europe/Berlin:20230415T220000
DTSTAMP:20260426T033005
CREATED:20230308T121250Z
LAST-MODIFIED:20230308T121250Z
UID:1001-1681581600-1681596000@www.ff-ummeln.de
SUMMARY:Jahreshauptversammlung Förderverein
DESCRIPTION:nähere Informationen folgen
URL:https://www.ff-ummeln.de/event/jahreshauptversammlung-foerderverein-2/
LOCATION:Dorfgemeinschaftshaus Ummeln\, Am Sportplatz\, Algermissen\, 31191\, Deutschland
END:VEVENT
END:VCALENDAR